BEGIN:VCALENDAR
VERSION:2.0
PRODID:-//hacksw/handcal//NONSGML v1.0//EN
CALSCALE:GREGORIAN
BEGIN:VEVENT
DTEND:20170412T171000
UID:69e760f0528dc
DTSTAMP:20260421T143512
URL;VALUE=URI:http://vaivara.ee/ctrl/ee/Uudis/ics/1446759d8d01bbaab82a/4292
SUMMARY:Hajaasustuse programmi 2017. a taotlusvoor on avatud
DESCRIPTION:Hajaasustuse programmi 2017. a taotlusvoor on avatud
DTSTART:20170412T171000
LOCATION:
END:VEVENT
END:VCALENDAR
