BEGIN:VCALENDAR
VERSION:2.0
PRODID:-//hacksw/handcal//NONSGML v1.0//EN
CALSCALE:GREGORIAN
BEGIN:VEVENT
DTEND:20170413T200000
UID:69e73b1ed390c
DTSTAMP:20260421T115350
URL;VALUE=URI:http://vaivara.ee/ctrl/ee/Uudis/ics/1446759d8d01bbaab82a/4294
SUMMARY:Hange: „Vaivara ja Sininõmme Vabadussõja mälestussammaste ümbruste heakorrastus“
DESCRIPTION:Hange: „Vaivara ja Sininõmme Vabadussõja mälestussammaste ümbruste heakorrastus“
DTSTART:20170413T200000
LOCATION:
END:VEVENT
END:VCALENDAR
