BEGIN:VCALENDAR
VERSION:2.0
PRODID:-//hacksw/handcal//NONSGML v1.0//EN
CALSCALE:GREGORIAN
BEGIN:VEVENT
DTEND:20180111T203700
UID:69e789362b20a
DTSTAMP:20260421T172702
URL;VALUE=URI:http://vaivara.ee/ctrl/ee/Uudis/ics/1479759d8d01bbaab82a+/4486
SUMMARY:Ametlik veebileht on nüüdsest narva-joesuu.ee
DESCRIPTION:Ametlik veebileht on nüüdsest narva-joesuu.ee
DTSTART:20180111T203700
LOCATION:
END:VEVENT
END:VCALENDAR
